BEGIN:VCALENDAR
VERSION:2.0
PRODID:-//The Art Store - ECPv6.15.16.1//NONSGML v1.0//EN
CALSCALE:GREGORIAN
METHOD:PUBLISH
X-WR-CALNAME:The Art Store
X-ORIGINAL-URL:https://prescottartstore.com
X-WR-CALDESC:Events for The Art Store
REFRESH-INTERVAL;VALUE=DURATION:PT1H
X-Robots-Tag:noindex
X-PUBLISHED-TTL:PT1H
BEGIN:VTIMEZONE
TZID:America/Phoenix
BEGIN:STANDARD
TZOFFSETFROM:-0700
TZOFFSETTO:-0700
TZNAME:MST
DTSTART:20250101T000000
END:STANDARD
END:VTIMEZONE
BEGIN:VEVENT
DTSTART;TZID=America/Phoenix:20260425T130000
DTEND;TZID=America/Phoenix:20260425T160000
DTSTAMP:20260421T033828
CREATED:20251216T060956Z
LAST-MODIFIED:20251216T070526Z
UID:90758-1777122000-1777132800@prescottartstore.com
SUMMARY:April's-2026-sculpture-class
DESCRIPTION:please see the first one in the series for full description
URL:https://prescottartstore.com/event/aprils-2026-sculpture-class-4/
ATTACH;FMTTYPE=image/jpeg:https://prescottartstore.com/wp-content/uploads/2022/11/wheel-throwing-Itlmx9.tmp_.jpg
END:VEVENT
BEGIN:VEVENT
DTSTART;TZID=America/Phoenix:20260428T100000
DTEND;TZID=America/Phoenix:20260428T130000
DTSTAMP:20260421T033828
CREATED:20251216T053852Z
LAST-MODIFIED:20251216T053852Z
UID:90716-1777370400-1777381200@prescottartstore.com
SUMMARY:April's-2026-advanced-watercolor-class
DESCRIPTION:please see the first one in the series for full description
URL:https://prescottartstore.com/event/aprils-2026-advanced-watercolor-class-4/
ATTACH;FMTTYPE=image/jpeg:https://prescottartstore.com/wp-content/uploads/2023/12/8f2aa02081a3568bf6d136897cb0ad0b-daniel-smith-watercolor-painting-tools-e1582258454841-SbWPfh.tmp_.jpg
END:VEVENT
BEGIN:VEVENT
DTSTART;TZID=America/Phoenix:20260501T100000
DTEND;TZID=America/Phoenix:20260501T130000
DTSTAMP:20260421T033828
CREATED:20251216T154146Z
LAST-MODIFIED:20260415T233636Z
UID:90900-1777629600-1777640400@prescottartstore.com
SUMMARY:May's-2026-Pastel-class
DESCRIPTION:Beginners to Advanced. \nYou can make amazing leaps and bounds in your pastel work in this class! \nKeith Kendall will guide you through learning and enhancing your skills in the enchanting medium of pastels.  \nJoin us on the first four Fridays’ classes from 1 PM – 4 PM. \nCost is $170.00 per student for 4 sessions during each month or $55 per individual session if class is already underway. \nTo register\, please contact us by phone at 928-443-0749 or register online by clicking the button below \nRequest our staff to add you to our courtesy contact list.  Please remember to register at least three days prior to the start of class! \nKeith Kendall\, instructor. Materials extra but there will be some communal pastels to work with. \nThe required supply list can be found here. \n \n**Minimum: 4 students and Maximum: 7 students \n  \n  \n  \n 
URL:https://prescottartstore.com/event/mays-2026-pastel-class/
ATTACH;FMTTYPE=image/jpeg:https://prescottartstore.com/wp-content/uploads/2025/12/pastel-painting-lessons-GHRCL8.jpg
END:VEVENT
BEGIN:VEVENT
DTSTART;TZID=America/Phoenix:20260502T100000
DTEND;TZID=America/Phoenix:20260502T120000
DTSTAMP:20260421T033828
CREATED:20251216T073712Z
LAST-MODIFIED:20260415T235133Z
UID:90862-1777716000-1777723200@prescottartstore.com
SUMMARY:May's-2026-Drawing-class
DESCRIPTION:Beginners to Intermediate \nIf you are just getting started or are in need of a review of what you may have already learned\, this class is for you.  Success in other art techniques are often dependent on how well you have learned to draw. Exploring the assorted techniques of charcoal and graphite are used in this class. \nCost: $130.00 for the first four Saturdays of the month \n12 years and older. Any student under this age will need to be interviewed for focus range. Mininum of 4 & a maximum of 8 \nTo register\, Call (928)443-0749 or register for this class online! \n \nThe required supply list can be found @ https://prescottartstore.com/art-supplies/supply-lists-2/basic-drawing-supply-list/ or here. \nInstructor: Keith Kendall \n 
URL:https://prescottartstore.com/event/mays-2026-drawing-class/
ATTACH;FMTTYPE=image/jpeg:https://prescottartstore.com/wp-content/uploads/2022/11/life-drawing-sketch-looking-left-tIzLMx.tmp_.jpg
END:VEVENT
BEGIN:VEVENT
DTSTART;TZID=America/Phoenix:20260502T130000
DTEND;TZID=America/Phoenix:20260502T160000
DTSTAMP:20260421T033828
CREATED:20251216T060957Z
LAST-MODIFIED:20260415T235944Z
UID:90759-1777726800-1777737600@prescottartstore.com
SUMMARY:May's-2026-sculpture-class
DESCRIPTION:Beginners to Intermediate\nK&K Studios and the Art Store offers a course on the Principles of Sculpture & Mold making as well as ceramics. \nEnjoy building a bust of your loved one! Or creating a voluptuous form in plasteline clay with the correct supports.  From designing in the round\, to the proper equipment and tool techniques to mold making\, your imagination is your only restriction. \nThis is ALSO a water-based clay and an oil-based clay class. Firing of your projects built in class is included in the class fee. Size and quantity of projects are limited by the present equipment. Please ask about these restrictions. The sculpture studio offers (3) throwing wheels\, a slab roller and a clay extruder for your project needs. The kiln in the store also fires from low to high fire (cone 06 to cone 10). \nJoin us on the first four Saturdays of the month classes from 1 PM to 4PM.  \nOpen enrollment\, all skill levels accepted. A maximum of 8 students is allowed in the studio space so one on one instruction has greater possibilities for the honing of your skills. A minimum of 4 students is required for the class to proceed each month it is offered.  \nAll materials are extra. Supply list for sculpture can be found here \nInstructor: Keith Kendall \nKeith Kendall’s Bio: K & K Studios is a father and son sculpture studio that has worked on international and national sculpture projects over their 35 years of the sculpture studio’s existence. \nCost of class is for the entire month of classes. Single Sessions if the class is already running is $55.00. \nOne of one instructor fee is $90.00/hour
URL:https://prescottartstore.com/event/mays-2026-sculpture-class/
ATTACH;FMTTYPE=image/jpeg:https://prescottartstore.com/wp-content/uploads/2022/11/wheel-throwing-Itlmx9.tmp_.jpg
END:VEVENT
BEGIN:VEVENT
DTSTART;TZID=America/Phoenix:20260505T100000
DTEND;TZID=America/Phoenix:20260505T130000
DTSTAMP:20260421T033828
CREATED:20251216T053854Z
LAST-MODIFIED:20260417T043012Z
UID:90717-1777975200-1777986000@prescottartstore.com
SUMMARY:May's-2026-advanced-watercolor-class
DESCRIPTION:In this class\, we will unlock the mystery of stretching watercolor paper techniques\, scraping\, embossing and big washes. Through exploring various application techniques\, create landscapes\, still-life\, and abstract pieces of art. Bring your open heart and creative spirit to express your wildest imagination. \nInstructor: Keith Kendall \nJoin us on the first four classes of the month from 1pm – 4PM. \nAges 16+. \n**Minimum: 4 students and Maximum: 8 students  \nRequest our staff to add you to our courtesy contact list. \nPlease remember to register at least three days prior to the start of class! \nMaterials extra. Required Supply list is the introductory supply list and some projects will need some special items to complete them. \nCost of class is for the entire month of classes. Single Sessions if the class is already running is $55.00. \nOne on one instructor fee is $90.00/hour
URL:https://prescottartstore.com/event/mays-2026-advanced-watercolor-class/
ATTACH;FMTTYPE=image/jpeg:https://prescottartstore.com/wp-content/uploads/2023/12/8f2aa02081a3568bf6d136897cb0ad0b-daniel-smith-watercolor-painting-tools-e1582258454841-SbWPfh.tmp_.jpg
END:VEVENT
BEGIN:VEVENT
DTSTART;TZID=America/Phoenix:20260506T100000
DTEND;TZID=America/Phoenix:20260506T130000
DTSTAMP:20260421T033828
CREATED:20251216T045410Z
LAST-MODIFIED:20260417T044647Z
UID:90674-1778061600-1778072400@prescottartstore.com
SUMMARY:May's-2026-introductory-watercolor-class
DESCRIPTION:In this class\, we will unlock the mystery of mixing colors. Through exploring various application techniques\, create landscapes\, still-life\, and abstract pieces of art. Bring your open heart and creative spirit to express your wildest imagination. \nInstructor: Keith Kendall \nJoin us on the first four classes from 1pm – 4PM \nAges 16+. \n**Minimum: 4 students and Maximum: 8 students  \nRequest our staff to add you to our courtesy contact list. \nPlease remember to register at least three days prior to the start of class! \nMaterials extra. Required Supply list can be found here. \nCost of class is for the entire month of classes. Single Sessions if the class is already running is $55.00. \nOne of one instructor fee is $90.00/hour
URL:https://prescottartstore.com/event/mays-2026-introductory-watercolor-class/
ATTACH;FMTTYPE=image/jpeg:https://prescottartstore.com/wp-content/uploads/2023/12/8f2aa02081a3568bf6d136897cb0ad0b-daniel-smith-watercolor-painting-tools-e1582258454841-SbWPfh.tmp_.jpg
END:VEVENT
BEGIN:VEVENT
DTSTART;TZID=America/Phoenix:20260507T100000
DTEND;TZID=America/Phoenix:20260507T130000
DTSTAMP:20260421T033828
CREATED:20251216T062416Z
LAST-MODIFIED:20260417T050810Z
UID:90800-1778148000-1778158800@prescottartstore.com
SUMMARY:May's-2026-oil-water-soluble-oils-acrylic-thursday-painting-class
DESCRIPTION:Beginners to Intermediate  You can make amazing leaps and bounds in your painting in this class! Keith will guide you through learning and enhancing your skills in this exciting medium.  \nJoin us on the first four Thursdays of this month from 1PM to 4PM.  \nTo register\, please contact us by phone at 928-443-0749 or register online by clicking the button below. \nAges 16+. Any younger than this and the student will need to be interviewed. All students younger than 16 must be painting in W/S oils or Acrylic due to the toxins from the mineral spirit usage. \n**Minimum: 4 students and Maximum: 8 students \nRequest our staff to add you to our courtesy contact list. \nPlease remember to register at least three days prior to the start of class! \nKeith Kendall\, instructor. \nKeith Kendall’s example of his art is in the Art Store sales floor \nThe required supply list can be found here \nAll Materials are an extra cost. \nPlease do not expect to use any turpentine painting techniques in this class. Even though the studio has an exhaust system\, the toxicity of the low grade mineral spirits and turpentine is very toxic to some of the attendees. The instructor will ask you to change to other products such as Gamsol as a requirement to ensure the good health of all students.  \nCost of class is for the entire month of classes. Single Sessions if the class is already running is $55.00. \nOne of one instructor fee is $90.00/hour
URL:https://prescottartstore.com/event/mays-2026-oil-water-soluble-oils-acrylic-thursday-painting-class/
ATTACH;FMTTYPE=image/jpeg:https://prescottartstore.com/wp-content/uploads/2022/11/oil-paint-e1582259744859-fzcWr2.tmp_.jpg
END:VEVENT
BEGIN:VEVENT
DTSTART;TZID=America/Phoenix:20260508T100000
DTEND;TZID=America/Phoenix:20260508T130000
DTSTAMP:20260421T033828
CREATED:20251216T154147Z
LAST-MODIFIED:20251217T053704Z
UID:90901-1778234400-1778245200@prescottartstore.com
SUMMARY:May's-2026-Pastel-class
DESCRIPTION:Please see details of this class in the first day of the class
URL:https://prescottartstore.com/event/mays-2026-pastel-class-2/
ATTACH;FMTTYPE=image/jpeg:https://prescottartstore.com/wp-content/uploads/2025/12/pastel-painting-lessons-GHRCL8.jpg
END:VEVENT
BEGIN:VEVENT
DTSTART;TZID=America/Phoenix:20260509T100000
DTEND;TZID=America/Phoenix:20260509T120000
DTSTAMP:20260421T033828
CREATED:20251216T073713Z
LAST-MODIFIED:20251217T051417Z
UID:90863-1778320800-1778328000@prescottartstore.com
SUMMARY:May's-2026-Drawing-class
DESCRIPTION:Please see details of this class in the first day of the class
URL:https://prescottartstore.com/event/mays-2026-drawing-class-2/
ATTACH;FMTTYPE=image/jpeg:https://prescottartstore.com/wp-content/uploads/2022/11/life-drawing-sketch-looking-left-tIzLMx.tmp_.jpg
END:VEVENT
BEGIN:VEVENT
DTSTART;TZID=America/Phoenix:20260509T130000
DTEND;TZID=America/Phoenix:20260509T160000
DTSTAMP:20260421T033828
CREATED:20251216T060959Z
LAST-MODIFIED:20251216T070528Z
UID:90760-1778331600-1778342400@prescottartstore.com
SUMMARY:May's-2026-sculpture-class
DESCRIPTION:please see the first one in the series for full description
URL:https://prescottartstore.com/event/mays-2026-sculpture-class-2/
ATTACH;FMTTYPE=image/jpeg:https://prescottartstore.com/wp-content/uploads/2022/11/wheel-throwing-Itlmx9.tmp_.jpg
END:VEVENT
BEGIN:VEVENT
DTSTART;TZID=America/Phoenix:20260512T100000
DTEND;TZID=America/Phoenix:20260512T130000
DTSTAMP:20260421T033828
CREATED:20251216T053855Z
LAST-MODIFIED:20251216T053855Z
UID:90718-1778580000-1778590800@prescottartstore.com
SUMMARY:May's-2026-advanced-watercolor-class
DESCRIPTION:please see the first one in the series for full description
URL:https://prescottartstore.com/event/mays-2026-advanced-watercolor-class-2/
ATTACH;FMTTYPE=image/jpeg:https://prescottartstore.com/wp-content/uploads/2023/12/8f2aa02081a3568bf6d136897cb0ad0b-daniel-smith-watercolor-painting-tools-e1582258454841-SbWPfh.tmp_.jpg
END:VEVENT
BEGIN:VEVENT
DTSTART;TZID=America/Phoenix:20260513T100000
DTEND;TZID=America/Phoenix:20260513T130000
DTSTAMP:20260421T033828
CREATED:20251216T045412Z
LAST-MODIFIED:20251217T052815Z
UID:90675-1778666400-1778677200@prescottartstore.com
SUMMARY:May's-2026-introductory-watercolor-class
DESCRIPTION:please see the first one in the series for full description
URL:https://prescottartstore.com/event/mays-2026-introductory-watercolor-class-2/
ATTACH;FMTTYPE=image/jpeg:https://prescottartstore.com/wp-content/uploads/2023/12/8f2aa02081a3568bf6d136897cb0ad0b-daniel-smith-watercolor-painting-tools-e1582258454841-SbWPfh.tmp_.jpg
END:VEVENT
BEGIN:VEVENT
DTSTART;TZID=America/Phoenix:20260514T100000
DTEND;TZID=America/Phoenix:20260514T130000
DTSTAMP:20260421T033828
CREATED:20251216T062417Z
LAST-MODIFIED:20251216T062417Z
UID:90801-1778752800-1778763600@prescottartstore.com
SUMMARY:May's-2026-oil-water-soluble-oils-acrylic-thursday-painting-class
DESCRIPTION:please see the first one in the series for full description
URL:https://prescottartstore.com/event/mays-2026-oil-water-soluble-oils-acrylic-thursday-painting-class-2/
ATTACH;FMTTYPE=image/jpeg:https://prescottartstore.com/wp-content/uploads/2022/11/oil-paint-e1582259744859-fzcWr2.tmp_.jpg
END:VEVENT
BEGIN:VEVENT
DTSTART;TZID=America/Phoenix:20260515T100000
DTEND;TZID=America/Phoenix:20260515T130000
DTSTAMP:20260421T033828
CREATED:20251216T154149Z
LAST-MODIFIED:20251217T053705Z
UID:90902-1778839200-1778850000@prescottartstore.com
SUMMARY:May's-2026-Pastel-class
DESCRIPTION:Please see details of this class in the first day of the class
URL:https://prescottartstore.com/event/mays-2026-pastel-class-3/
ATTACH;FMTTYPE=image/jpeg:https://prescottartstore.com/wp-content/uploads/2025/12/pastel-painting-lessons-GHRCL8.jpg
END:VEVENT
BEGIN:VEVENT
DTSTART;TZID=America/Phoenix:20260516T100000
DTEND;TZID=America/Phoenix:20260516T120000
DTSTAMP:20260421T033828
CREATED:20251216T073715Z
LAST-MODIFIED:20251217T051418Z
UID:90864-1778925600-1778932800@prescottartstore.com
SUMMARY:May's-2026-Drawing-class
DESCRIPTION:Please see details of this class in the first day of the class
URL:https://prescottartstore.com/event/mays-2026-drawing-class-3/
ATTACH;FMTTYPE=image/jpeg:https://prescottartstore.com/wp-content/uploads/2022/11/life-drawing-sketch-looking-left-tIzLMx.tmp_.jpg
END:VEVENT
BEGIN:VEVENT
DTSTART;TZID=America/Phoenix:20260516T130000
DTEND;TZID=America/Phoenix:20260516T160000
DTSTAMP:20260421T033828
CREATED:20251216T061000Z
LAST-MODIFIED:20251216T070529Z
UID:90761-1778936400-1778947200@prescottartstore.com
SUMMARY:May's-2026-sculpture-class
DESCRIPTION:please see the first one in the series for full description
URL:https://prescottartstore.com/event/mays-2026-sculpture-class-3/
ATTACH;FMTTYPE=image/jpeg:https://prescottartstore.com/wp-content/uploads/2022/11/wheel-throwing-Itlmx9.tmp_.jpg
END:VEVENT
BEGIN:VEVENT
DTSTART;TZID=America/Phoenix:20260519T100000
DTEND;TZID=America/Phoenix:20260519T130000
DTSTAMP:20260421T033828
CREATED:20251216T053856Z
LAST-MODIFIED:20251216T053856Z
UID:90719-1779184800-1779195600@prescottartstore.com
SUMMARY:May's-2026-advanced-watercolor-class
DESCRIPTION:please see the first one in the series for full description
URL:https://prescottartstore.com/event/mays-2026-advanced-watercolor-class-3/
ATTACH;FMTTYPE=image/jpeg:https://prescottartstore.com/wp-content/uploads/2023/12/8f2aa02081a3568bf6d136897cb0ad0b-daniel-smith-watercolor-painting-tools-e1582258454841-SbWPfh.tmp_.jpg
END:VEVENT
BEGIN:VEVENT
DTSTART;TZID=America/Phoenix:20260520T100000
DTEND;TZID=America/Phoenix:20260520T130000
DTSTAMP:20260421T033828
CREATED:20251216T045413Z
LAST-MODIFIED:20251217T052816Z
UID:90676-1779271200-1779282000@prescottartstore.com
SUMMARY:May's-2026-introductory-watercolor-class
DESCRIPTION:please see the first one in the series for full description
URL:https://prescottartstore.com/event/mays-2026-introductory-watercolor-class-3/
ATTACH;FMTTYPE=image/jpeg:https://prescottartstore.com/wp-content/uploads/2023/12/8f2aa02081a3568bf6d136897cb0ad0b-daniel-smith-watercolor-painting-tools-e1582258454841-SbWPfh.tmp_.jpg
END:VEVENT
BEGIN:VEVENT
DTSTART;TZID=America/Phoenix:20260521T100000
DTEND;TZID=America/Phoenix:20260521T130000
DTSTAMP:20260421T033828
CREATED:20251216T062419Z
LAST-MODIFIED:20251216T062419Z
UID:90802-1779357600-1779368400@prescottartstore.com
SUMMARY:May's-2026-oil-water-soluble-oils-acrylic-thursday-painting-class
DESCRIPTION:please see the first one in the series for full description
URL:https://prescottartstore.com/event/mays-2026-oil-water-soluble-oils-acrylic-thursday-painting-class-3/
ATTACH;FMTTYPE=image/jpeg:https://prescottartstore.com/wp-content/uploads/2022/11/oil-paint-e1582259744859-fzcWr2.tmp_.jpg
END:VEVENT
BEGIN:VEVENT
DTSTART;TZID=America/Phoenix:20260522T100000
DTEND;TZID=America/Phoenix:20260522T130000
DTSTAMP:20260421T033828
CREATED:20251216T154150Z
LAST-MODIFIED:20251217T053706Z
UID:90903-1779444000-1779454800@prescottartstore.com
SUMMARY:May's-2026-Pastel-class
DESCRIPTION:Please see details of this class in the first day of the class
URL:https://prescottartstore.com/event/mays-2026-pastel-class-4/
ATTACH;FMTTYPE=image/jpeg:https://prescottartstore.com/wp-content/uploads/2025/12/pastel-painting-lessons-GHRCL8.jpg
END:VEVENT
BEGIN:VEVENT
DTSTART;TZID=America/Phoenix:20260523T100000
DTEND;TZID=America/Phoenix:20260523T120000
DTSTAMP:20260421T033828
CREATED:20251216T073716Z
LAST-MODIFIED:20251217T051419Z
UID:90865-1779530400-1779537600@prescottartstore.com
SUMMARY:May's-2026-Drawing-class
DESCRIPTION:Please see details of this class in the first day of the class
URL:https://prescottartstore.com/event/mays-2026-drawing-class-4/
ATTACH;FMTTYPE=image/jpeg:https://prescottartstore.com/wp-content/uploads/2022/11/life-drawing-sketch-looking-left-tIzLMx.tmp_.jpg
END:VEVENT
BEGIN:VEVENT
DTSTART;TZID=America/Phoenix:20260523T130000
DTEND;TZID=America/Phoenix:20260523T160000
DTSTAMP:20260421T033828
CREATED:20251216T061004Z
LAST-MODIFIED:20251216T070535Z
UID:90762-1779541200-1779552000@prescottartstore.com
SUMMARY:May's-2026-sculpture-class
DESCRIPTION:please see the first one in the series for full description
URL:https://prescottartstore.com/event/mays-2026-sculpture-class-4/
ATTACH;FMTTYPE=image/jpeg:https://prescottartstore.com/wp-content/uploads/2022/11/wheel-throwing-Itlmx9.tmp_.jpg
END:VEVENT
BEGIN:VEVENT
DTSTART;TZID=America/Phoenix:20260526T100000
DTEND;TZID=America/Phoenix:20260526T130000
DTSTAMP:20260421T033828
CREATED:20251216T053901Z
LAST-MODIFIED:20251216T053901Z
UID:90720-1779789600-1779800400@prescottartstore.com
SUMMARY:May's-2026-advanced-watercolor-class
DESCRIPTION:please see the first one in the series for full description
URL:https://prescottartstore.com/event/mays-2026-advanced-watercolor-class-4/
ATTACH;FMTTYPE=image/jpeg:https://prescottartstore.com/wp-content/uploads/2023/12/8f2aa02081a3568bf6d136897cb0ad0b-daniel-smith-watercolor-painting-tools-e1582258454841-SbWPfh.tmp_.jpg
END:VEVENT
BEGIN:VEVENT
DTSTART;TZID=America/Phoenix:20260527T100000
DTEND;TZID=America/Phoenix:20260527T130000
DTSTAMP:20260421T033828
CREATED:20251216T045418Z
LAST-MODIFIED:20251217T052823Z
UID:90677-1779876000-1779886800@prescottartstore.com
SUMMARY:May's-2026-introductory-watercolor-class
DESCRIPTION:please see the first one in the series for full description
URL:https://prescottartstore.com/event/mays-2026-introductory-watercolor-class-4/
ATTACH;FMTTYPE=image/jpeg:https://prescottartstore.com/wp-content/uploads/2023/12/8f2aa02081a3568bf6d136897cb0ad0b-daniel-smith-watercolor-painting-tools-e1582258454841-SbWPfh.tmp_.jpg
END:VEVENT
BEGIN:VEVENT
DTSTART;TZID=America/Phoenix:20260528T100000
DTEND;TZID=America/Phoenix:20260528T130000
DTSTAMP:20260421T033828
CREATED:20251216T062427Z
LAST-MODIFIED:20251216T062427Z
UID:90803-1779962400-1779973200@prescottartstore.com
SUMMARY:May's-2026-oil-water-soluble-oils-acrylic-thursday-painting-class
DESCRIPTION:please see the first one in the series for full description
URL:https://prescottartstore.com/event/mays-2026-oil-water-soluble-oils-acrylic-thursday-painting-class-4/
ATTACH;FMTTYPE=image/jpeg:https://prescottartstore.com/wp-content/uploads/2022/11/oil-paint-e1582259744859-fzcWr2.tmp_.jpg
END:VEVENT
BEGIN:VEVENT
DTSTART;TZID=America/Phoenix:20260529T100000
DTEND;TZID=America/Phoenix:20260529T170000
DTSTAMP:20260421T033828
CREATED:20251217T062617Z
LAST-MODIFIED:20260419T023921Z
UID:90959-1780048800-1780074000@prescottartstore.com
SUMMARY:May's-2026-Paint-BIG-Acrylic-Two-Day-Workshop
DESCRIPTION:Beginners to Advanced. \nLearn how to make those challenges of painting large acrylic paintings into hurdles on the way to successful projects. This workshop is designed to help you understand: \n\nLayering process\nPaint applicators\nDifferent viscosities of paints\nStaining Methods\nUse of student grade and professional grade paints\nCreating textures with acrylic mediums\nProper Varnishing Techniques\nColor Theory\nComposition theoryInstructor: Keith Kendall\, nearly 40 years of experience in being a professional artist\, owner of the Art Store\, former owner of an art gallery\, former owner of an art foundry and owner of K & K Studios. Noted in the Phippen Art Museum.\nJoin us for this 2-Day Workshop from 10AM to 5PM over Friday and Saturday. Cost is $250.00 per student for the 2 days.   \nTo register\, please contact us by phone at 928-443-0749 or register online by clicking the button below \nRequest our staff to add you to our courtesy contact list.  Please remember to register at least three days prior to the start of workshop! \nThe required supply list can be found here. Golden Acrylics and Liquitex has donated to our workshop for a great experience. \n \n**Minimum: 4 students and Maximum: 5 students–space is limited and we are painting big. \n  \n  \n  \n 
URL:https://prescottartstore.com/event/mays-2026-paint-big-acrylic-two-day-workshop/
LOCATION:The Art Store – Event Venue\, 537 North 6th Street Suite E\, Prescott\, AZ\, 86301\, United States
ATTACH;FMTTYPE=image/jpeg:https://prescottartstore.com/wp-content/uploads/2018/12/hqdefault.jpg
END:VEVENT
BEGIN:VEVENT
DTSTART;TZID=America/Phoenix:20260530T100000
DTEND;TZID=America/Phoenix:20260530T170000
DTSTAMP:20260421T033828
CREATED:20251217T062617Z
LAST-MODIFIED:20260418T235715Z
UID:90960-1780135200-1780160400@prescottartstore.com
SUMMARY:May's-2026-Paint-BIG-Acrylic-Two-Day-Workshop
DESCRIPTION:please see the first one in the series for full description
URL:https://prescottartstore.com/event/mays-2026-paint-big-acrylic-two-day-workshop-2/
LOCATION:The Art Store – Event Venue\, 537 North 6th Street Suite E\, Prescott\, AZ\, 86301\, United States
END:VEVENT
BEGIN:VEVENT
DTSTART;TZID=America/Phoenix:20260602T100000
DTEND;TZID=America/Phoenix:20260602T130000
DTSTAMP:20260421T033828
CREATED:20251216T053902Z
LAST-MODIFIED:20251216T053902Z
UID:90721-1780394400-1780405200@prescottartstore.com
SUMMARY:June's-2026-advanced-watercolor-class
DESCRIPTION:
URL:https://prescottartstore.com/event/junes-2026-advanced-watercolor-class/
ATTACH;FMTTYPE=image/jpeg:https://prescottartstore.com/wp-content/uploads/2023/12/8f2aa02081a3568bf6d136897cb0ad0b-daniel-smith-watercolor-painting-tools-e1582258454841-SbWPfh.tmp_.jpg
END:VEVENT
BEGIN:VEVENT
DTSTART;TZID=America/Phoenix:20260603T100000
DTEND;TZID=America/Phoenix:20260603T130000
DTSTAMP:20260421T033828
CREATED:20251216T045419Z
LAST-MODIFIED:20251217T052824Z
UID:90678-1780480800-1780491600@prescottartstore.com
SUMMARY:June's-2026-introductory-watercolor-class
DESCRIPTION:
URL:https://prescottartstore.com/event/junes-2026-introductory-watercolor-class/
ATTACH;FMTTYPE=image/jpeg:https://prescottartstore.com/wp-content/uploads/2023/12/8f2aa02081a3568bf6d136897cb0ad0b-daniel-smith-watercolor-painting-tools-e1582258454841-SbWPfh.tmp_.jpg
END:VEVENT
END:VCALENDAR