BEGIN:VCALENDAR
VERSION:2.0
PRODID:-//The Art Store - ECPv6.15.16.1//NONSGML v1.0//EN
CALSCALE:GREGORIAN
METHOD:PUBLISH
X-WR-CALNAME:The Art Store
X-ORIGINAL-URL:https://prescottartstore.com
X-WR-CALDESC:Events for The Art Store
REFRESH-INTERVAL;VALUE=DURATION:PT1H
X-Robots-Tag:noindex
X-PUBLISHED-TTL:PT1H
BEGIN:VTIMEZONE
TZID:America/Phoenix
BEGIN:STANDARD
TZOFFSETFROM:-0700
TZOFFSETTO:-0700
TZNAME:MST
DTSTART:20240101T000000
END:STANDARD
END:VTIMEZONE
BEGIN:VEVENT
DTSTART;TZID=America/Phoenix:20250607T100000
DTEND;TZID=America/Phoenix:20250607T120000
DTSTAMP:20260421T063921
CREATED:20241208T001238Z
LAST-MODIFIED:20241208T175116Z
UID:87001-1749290400-1749297600@prescottartstore.com
SUMMARY:June's-2025-Drawing-class
DESCRIPTION:Beginners to Intermediate \nIf you are just getting started or are in need of a review of what you may have already learned\, this class is for you.  Success in other art techniques are often dependent on how well you have learned to draw. Exploring the assorted techniques of charcoal and graphite are used in this class. \nCost: $125.00 for the first four Saturdays of the month \n12 years and older. Any student under this age will need to be interviewed for focus range. Mininum of 4 & a maximum of 8 \nTo register\, Call (928)443-0749 or register for this class online! \n \nThe required supply list can be found @ https://prescottartstore.com/art-supplies/supply-lists-2/basic-drawing-supply-list/ or here. \nInstructor: Keith Kendall
URL:https://prescottartstore.com/event/junes-2025-drawing-class/
ATTACH;FMTTYPE=image/jpeg:https://prescottartstore.com/wp-content/uploads/2022/11/life-drawing-sketch-looking-left-tIzLMx.tmp_.jpg
END:VEVENT
BEGIN:VEVENT
DTSTART;TZID=America/Phoenix:20250607T130000
DTEND;TZID=America/Phoenix:20250607T160000
DTSTAMP:20260421T063921
CREATED:20241209T044528Z
LAST-MODIFIED:20241211T044705Z
UID:87138-1749301200-1749312000@prescottartstore.com
SUMMARY:June's-2025-sculpture-class
DESCRIPTION:Beginners to Intermediate\nK&K Studios and the Art Store offers a course on the Principles of Sculpture & Mold making as well as ceramics. \nEnjoy building a bust of your loved one! Or creating a voluptuous form in plasteline clay with the correct supports.  From designing in the round\, to the proper equipment and tool techniques to mold making\, your imagination is your only restriction. \nThis is ALSO a water-based clay and an oil-based clay class. Firing of your projects built in class is included in the class fee. Size and quantity of projects are limited by the present equipment. Please ask about these restrictions. The sculpture studio offers (3) throwing wheels\, a slab roller and a clay extruder for your project needs. The kiln in the store also fires from low to high fire (cone 06 to cone 10). \nJoin us on the first four Saturdays of the month classes from 1 PM to 4PM.  \nOpen enrollment\, all skill levels accepted. A maximum of 8 students is allowed in the studio space so one on one instruction has greater possibilities for the honing of your skills. A minimum of 4 students is required for the class to proceed each month it is offered.  \nAll materials are extra. Supply list for sculpture can be found here \nInstructor: Keith Kendall \nKeith Kendall’s Bio: K & K Studios is a father and son sculpture studio that has worked on international and national sculpture projects over their 35 years of the sculpture studio’s existence. \nCost of class is for the entire month of classes. Single Sessions if the class is already running is $55.00. \nOne of one instructor fee is $90.00/hour
URL:https://prescottartstore.com/event/junes-2025-sculpture-class/
ATTACH;FMTTYPE=image/jpeg:https://prescottartstore.com/wp-content/uploads/2022/11/wheel-throwing-Itlmx9.tmp_.jpg
END:VEVENT
END:VCALENDAR